Workbook
Name heure: Feuil2!$F$1:$J$8

Sheet Feuil1
B2: SEPTEMBRE | G2: OCTOBRE | L2: NOVEMBRE | Q2: DECEMBRE | V2: JANVIER | AA2: FEVRIER | AF2: MARS | AK2: AVRIL | AP2: MAI | AU2: JUIN | AZ2: JUILLET | BE2: AOUT
B4: Mar. | C4: 1 | D4: RS | E4: =IF((VLOOKUP($B4,heure,4,FALSE))<=0,"",VLOOKUP($B4,heure,4,FALSE)) | G4: Jeu. | H4: 1 | J4: =IF((VLOOKUP($G4,heure,4,FALSE))<=0,"",VLOOKUP($G4,heure,4,FALSE)) | L4: Dim. | M4: 1 | N4: Toussaint | O4: =IF((VLOOKUP($L4,heure,4,FALSE))<=0,"",VLOOKUP($L4,heure,4,FALSE)) | Q4: Mar. | R4: 1 | T4: =IF((VLOOKUP($Q4,heure,4,FALSE))<=0,"",VLOOKUP($Q4,heure,4,FALSE)) | V4: Ven. | W4: 1 | X4: Nouvel an | Y4: =IF((VLOOKUP($V4,heure,4,FALSE))<=0,"",VLOOKUP($V4,heure,4,FALSE)) | AA4: Lun. | AB4: 1 | AD4: =IF((VLOOKUP($AA4,heure,4,FALSE))<=0,"",VLOOKUP($AA4,heure,4,FALSE)) | AF4: Lun. | AG4: 1 | AI4: =IF((VLOOKUP($AF4,heure,4,FALSE))<=0,"",VLOOKUP($AF4,heure,4,FALSE)) | AK4: Jeu. | AL4: 1 | AN4: =IF((VLOOKUP($AK4,heure,4,FALSE))<=0,"",VLOOKUP($AK4,heure,4,FALSE)) | AP4: Sam. | AQ4: 1 | AR4: Fête du travail | AS4: =IF((VLOOKUP($AP4,heure,4,FALSE))<=0,"",VLOOKUP($AP4,heure,4,FALSE)) | AU4: Mar. | AV4: 1 | AX4: =IF((VLOOKUP($AU4,heure,4,FALSE))<=0,"",VLOOKUP($AU4,heure,4,FALSE)) | AZ4: Jeu. | BA4: 1 | BC4: =IF((VLOOKUP($AZ4,heure,4,FALSE))<=0,"",VLOOKUP($AZ4,heure,4,FALSE)) | BE4: Dim. | BF4: 1 | BH4: =IF((VLOOKUP($BE4,heure,4,FALSE))<=0,"",VLOOKUP($BE4,heure,4,FALSE)) | BP4: à
B5: Mer. | C5: 2 | E5: =IF((VLOOKUP($B5,heure,4,FALSE))<=0,"",VLOOKUP($B5,heure,4,FALSE)) | G5: Ven. | H5: 2 | J5: =IF((VLOOKUP($G5,heure,4,FALSE))<=0,"",VLOOKUP($G5,heure,4,FALSE)) | L5: Lun. | M5: 2 | O5: =IF((VLOOKUP($L5,heure,4,FALSE))<=0,"",VLOOKUP($L5,heure,4,FALSE)) | Q5: Mer. | R5: 2 | T5: =IF((VLOOKUP($Q5,heure,4,FALSE))<=0,"",VLOOKUP($Q5,heure,4,FALSE)) | V5: Sam. | W5: 2 | Y5: =IF((VLOOKUP($V5,heure,4,FALSE))<=0,"",VLOOKUP($V5,heure,4,FALSE)) | AA5: Mar. | AB5: 2 | AD5: =IF((VLOOKUP($AA5,heure,4,FALSE))<=0,"",VLOOKUP($AA5,heure,4,FALSE)) | AF5: Mar. | AG5: 2 | AI5: =IF((VLOOKUP($AF5,heure,4,FALSE))<=0,"",VLOOKUP($AF5,heure,4,FALSE)) | AK5: Ven. | AL5: 2 | AN5: =IF((VLOOKUP($AK5,heure,4,FALSE))<=0,"",VLOOKUP($AK5,heure,4,FALSE)) | AP5: Dim. | AQ5: 2 | AS5: =IF((VLOOKUP($AP5,heure,4,FALSE))<=0,"",VLOOKUP($AP5,heure,4,FALSE)) | AU5: Mer. | AV5: 2 | AX5: =IF((VLOOKUP($AU5,heure,4,FALSE))<=0,"",VLOOKUP($AU5,heure,4,FALSE)) | AZ5: Ven. | BA5: 2 | BC5: =IF((VLOOKUP($AZ5,heure,4,FALSE))<=0,"",VLOOKUP($AZ5,heure,4,FALSE)) | BE5: Lun. | BF5: 2 | BH5: =IF((VLOOKUP($BE5,heure,4,FALSE))<=0,"",VLOOKUP($BE5,heure,4,FALSE))
B6: Jeu. | C6: 3 | E6: =IF((VLOOKUP($B6,heure,4,FALSE))<=0,"",VLOOKUP($B6,heure,4,FALSE)) | G6: Sam. | H6: 3 | J6: =IF((VLOOKUP($G6,heure,4,FALSE))<=0,"",VLOOKUP($G6,heure,4,FALSE)) | L6: Mar. | M6: 3 | O6: =IF((VLOOKUP($L6,heure,4,FALSE))<=0,"",VLOOKUP($L6,heure,4,FALSE)) | Q6: Jeu. | R6: 3 | T6: =IF((VLOOKUP($Q6,heure,4,FALSE))<=0,"",VLOOKUP($Q6,heure,4,FALSE)) | V6: Dim. | W6: 3 | Y6: =IF((VLOOKUP($V6,heure,4,FALSE))<=0,"",VLOOKUP($V6,heure,4,FALSE)) | AA6: Mer. | AB6: 3 | AD6: =IF((VLOOKUP($AA6,heure,4,FALSE))<=0,"",VLOOKUP($AA6,heure,4,FALSE)) | AF6: Mer. | AG6: 3 | AI6: =IF((VLOOKUP($AF6,heure,4,FALSE))<=0,"",VLOOKUP($AF6,heure,4,FALSE)) | AK6: Sam. | AL6: 3 | AN6: =IF((VLOOKUP($AK6,heure,4,FALSE))<=0,"",VLOOKUP($AK6,heure,4,FALSE)) | AP6: Lun. | AQ6: 3 | AS6: =IF((VLOOKUP($AP6,heure,4,FALSE))<=0,"",VLOOKUP($AP6,heure,4,FALSE)) | AU6: Jeu. | AV6: 3 | AX6: =IF((VLOOKUP($AU6,heure,4,FALSE))<=0,"",VLOOKUP($AU6,heure,4,FALSE)) | AZ6: Sam. | BA6: 3 | BC6: =IF((VLOOKUP($AZ6,heure,4,FALSE))<=0,"",VLOOKUP($AZ6,heure,4,FALSE)) | BE6: Mar. | BF6: 3 | BH6: =IF((VLOOKUP($BE6,heure,4,FALSE))<=0,"",VLOOKUP($BE6,heure,4,FALSE))
B7: Ven. | C7: 4 | E7: =IF((VLOOKUP($B7,heure,4,FALSE))<=0,"",VLOOKUP($B7,heure,4,FALSE)) | G7: Dim. | H7: 4 | J7: =IF((VLOOKUP($G7,heure,4,FALSE))<=0,"",VLOOKUP($G7,heure,4,FALSE)) | L7: Mer. | M7: 4 | O7: =IF((VLOOKUP($L7,heure,4,FALSE))<=0,"",VLOOKUP($L7,heure,4,FALSE)) | Q7: Ven. | R7: 4 | T7: =IF((VLOOKUP($Q7,heure,4,FALSE))<=0,"",VLOOKUP($Q7,heure,4,FALSE)) | V7: Lun. | W7: 4 | Y7: =IF((VLOOKUP($V7,heure,4,FALSE))<=0,"",VLOOKUP($V7,heure,4,FALSE)) | AA7: Jeu. | AB7: 4 | AD7: =IF((VLOOKUP($AA7,heure,4,FALSE))<=0,"",VLOOKUP($AA7,heure,4,FALSE)) | AF7: Jeu. | AG7: 4 | AI7: =IF((VLOOKUP($AF7,heure,4,FALSE))<=0,"",VLOOKUP($AF7,heure,4,FALSE)) | AK7: Dim. | AL7: 4 | AN7: =IF((VLOOKUP($AK7,heure,4,FALSE))<=0,"",VLOOKUP($AK7,heure,4,FALSE)) | AP7: Mar. | AQ7: 4 | AS7: =IF((VLOOKUP($AP7,heure,4,FALSE))<=0,"",VLOOKUP($AP7,heure,4,FALSE)) | AU7: Ven. | AV7: 4 | AX7: =IF((VLOOKUP($AU7,heure,4,FALSE))<=0,"",VLOOKUP($AU7,heure,4,FALSE)) | AZ7: Dim. | BA7: 4 | BC7: =IF((VLOOKUP($AZ7,heure,4,FALSE))<=0,"",VLOOKUP($AZ7,heure,4,FALSE)) | BE7: Mer. | BF7: 4 | BH7: =IF((VLOOKUP($BE7,heure,4,FALSE))<=0,"",VLOOKUP($BE7,heure,4,FALSE))
B8: Sam. | C8: 5 | E8: =IF((VLOOKUP($B8,heure,4,FALSE))<=0,"",VLOOKUP($B8,heure,4,FALSE)) | G8: Lun. | H8: 5 | J8: =IF((VLOOKUP($G8,heure,4,FALSE))<=0,"",VLOOKUP($G8,heure,4,FALSE)) | L8: Jeu. | M8: 5 | O8: =IF((VLOOKUP($L8,heure,4,FALSE))<=0,"",VLOOKUP($L8,heure,4,FALSE)) | Q8: Sam. | R8: 5 | T8: =IF((VLOOKUP($Q8,heure,4,FALSE))<=0,"",VLOOKUP($Q8,heure,4,FALSE)) | V8: Mar. | W8: 5 | Y8: =IF((VLOOKUP($V8,heure,4,FALSE))<=0,"",VLOOKUP($V8,heure,4,FALSE)) | AA8: Ven. | AB8: 5 | AD8: =IF((VLOOKUP($AA8,heure,4,FALSE))<=0,"",VLOOKUP($AA8,heure,4,FALSE)) | AF8: Ven. | AG8: 5 | AI8: =IF((VLOOKUP($AF8,heure,4,FALSE))<=0,"",VLOOKUP($AF8,heure,4,FALSE)) | AK8: Lun. | AL8: 5 | AN8: =IF((VLOOKUP($AK8,heure,4,FALSE))<=0,"",VLOOKUP($AK8,heure,4,FALSE)) | AP8: Mer. | AQ8: 5 | AS8: =IF((VLOOKUP($AP8,heure,4,FALSE))<=0,"",VLOOKUP($AP8,heure,4,FALSE)) | AU8: Sam. | AV8: 5 | AX8: =IF((VLOOKUP($AU8,heure,4,FALSE))<=0,"",VLOOKUP($AU8,heure,4,FALSE)) | AZ8: Lun. | BA8: 5 | BC8: =IF((VLOOKUP($AZ8,heure,4,FALSE))<=0,"",VLOOKUP($AZ8,heure,4,FALSE)) | BE8: Jeu. | BF8: 5 | BH8: =IF((VLOOKUP($BE8,heure,4,FALSE))<=0,"",VLOOKUP($BE8,heure,4,FALSE))
B9: Dim. | C9: 6 | E9: =IF((VLOOKUP($B9,heure,4,FALSE))<=0,"",VLOOKUP($B9,heure,4,FALSE)) | G9: Mar. | H9: 6 | J9: =IF((VLOOKUP($G9,heure,4,FALSE))<=0,"",VLOOKUP($G9,heure,4,FALSE)) | L9: Ven. | M9: 6 | O9: =IF((VLOOKUP($L9,heure,4,FALSE))<=0,"",VLOOKUP($L9,heure,4,FALSE)) | Q9: Dim. | R9: 6 | T9: =IF((VLOOKUP($Q9,heure,4,FALSE))<=0,"",VLOOKUP($Q9,heure,4,FALSE)) | V9: Mer. | W9: 6 | Y9: =IF((VLOOKUP($V9,heure,4,FALSE))<=0,"",VLOOKUP($V9,heure,4,FALSE)) | AA9: Sam. | AB9: 6 | AD9: =IF((VLOOKUP($AA9,heure,4,FALSE))<=0,"",VLOOKUP($AA9,heure,4,FALSE)) | AF9: Sam. | AG9: 6 | AI9: =IF((VLOOKUP($AF9,heure,4,FALSE))<=0,"",VLOOKUP($AF9,heure,4,FALSE)) | AK9: Mar. | AL9: 6 | AN9: =IF((VLOOKUP($AK9,heure,4,FALSE))<=0,"",VLOOKUP($AK9,heure,4,FALSE)) | AP9: Jeu. | AQ9: 6 | AR9: Ascension | AS9: =IF((VLOOKUP($AP9,heure,4,FALSE))<=0,"",VLOOKUP($AP9,heure,4,FALSE)) | AU9: Dim. | AV9: 6 | AX9: =IF((VLOOKUP($AU9,heure,4,FALSE))<=0,"",VLOOKUP($AU9,heure,4,FALSE)) | AZ9: Mar. | BA9: 6 | BC9: =IF((VLOOKUP($AZ9,heure,4,FALSE))<=0,"",VLOOKUP($AZ9,heure,4,FALSE)) | BE9: Ven. | BF9: 6 | BH9: =IF((VLOOKUP($BE9,heure,4,FALSE))<=0,"",VLOOKUP($BE9,heure,4,FALSE))
B10: Lun. | C10: 7 | E10: =IF((VLOOKUP($B10,heure,4,FALSE))<=0,"",VLOOKUP($B10,heure,4,FALSE)) | G10: Mer. | H10: 7 | J10: =IF((VLOOKUP($G10,heure,4,FALSE))<=0,"",VLOOKUP($G10,heure,4,FALSE)) | L10: Sam. | M10: 7 | O10: =IF((VLOOKUP($L10,heure,4,FALSE))<=0,"",VLOOKUP($L10,heure,4,FALSE)) | Q10: Lun. | R10: 7 | T10: =IF((VLOOKUP($Q10,heure,4,FALSE))<=0,"",VLOOKUP($Q10,heure,4,FALSE)) | V10: Jeu. | W10: 7 | Y10: =IF((VLOOKUP($V10,heure,4,FALSE))<=0,"",VLOOKUP($V10,heure,4,FALSE)) | AA10: Dim. | AB10: 7 | AD10: =IF((VLOOKUP($AA10,heure,4,FALSE))<=0,"",VLOOKUP($AA10,heure,4,FALSE)) | AF10: Dim. | AG10: 7 | AI10: =IF((VLOOKUP($AF10,heure,4,FALSE))<=0,"",VLOOKUP($AF10,heure,4,FALSE)) | AK10: Mer. | AL10: 7 | AN10: =IF((VLOOKUP($AK10,heure,4,FALSE))<=0,"",VLOOKUP($AK10,heure,4,FALSE)) | AP10: Ven. | AQ10: 7 | AS10: =IF((VLOOKUP($AP10,heure,4,FALSE))<=0,"",VLOOKUP($AP10,heure,4,FALSE)) | AU10: Lun. | AV10: 7 | AX10: =IF((VLOOKUP($AU10,heure,4,FALSE))<=0,"",VLOOKUP($AU10,heure,4,FALSE)) | AZ10: Mer. | BA10: 7 | BC10: =IF((VLOOKUP($AZ10,heure,4,FALSE))<=0,"",VLOOKUP($AZ10,heure,4,FALSE)) | BE10: Sam. | BF10: 7 | BH10: =IF((VLOOKUP($BE10,heure,4,FALSE))<=0,"",VLOOKUP($BE10,heure,4,FALSE))
B11: Mar. | C11: 8 | E11: =IF((VLOOKUP($B11,heure,4,FALSE))<=0,"",VLOOKUP($B11,heure,4,FALSE)) | G11: Jeu. | H11: 8 | J11: =IF((VLOOKUP($G11,heure,4,FALSE))<=0,"",VLOOKUP($G11,heure,4,FALSE)) | L11: Dim. | M11: 8 | O11: =IF((VLOOKUP($L11,heure,4,FALSE))<=0,"",VLOOKUP($L11,heure,4,FALSE)) | Q11: Mar. | R11: 8 | T11: =IF((VLOOKUP($Q11,heure,4,FALSE))<=0,"",VLOOKUP($Q11,heure,4,FALSE)) | V11: Ven. | W11: 8 | Y11: =IF((VLOOKUP($V11,heure,4,FALSE))<=0,"",VLOOKUP($V11,heure,4,FALSE)) | AA11: Lun. | AB11: 8 | AD11: =IF((VLOOKUP($AA11,heure,4,FALSE))<=0,"",VLOOKUP($AA11,heure,4,FALSE)) | AF11: Lun. | AG11: 8 | AI11: =IF((VLOOKUP($AF11,heure,4,FALSE))<=0,"",VLOOKUP($AF11,heure,4,FALSE)) | AK11: Jeu. | AL11: 8 | AN11: =IF((VLOOKUP($AK11,heure,4,FALSE))<=0,"",VLOOKUP($AK11,heure,4,FALSE)) | AP11: Sam. | AQ11: 8 | AR11: Victoire 45 | AS11: =IF((VLOOKUP($AP11,heure,4,FALSE))<=0,"",VLOOKUP($AP11,heure,4,FALSE)) | AU11: Mar. | AV11: 8 | AX11: =IF((VLOOKUP($AU11,heure,4,FALSE))<=0,"",VLOOKUP($AU11,heure,4,FALSE)) | AZ11: Jeu. | BA11: 8 | BC11: =IF((VLOOKUP($AZ11,heure,4,FALSE))<=0,"",VLOOKUP($AZ11,heure,4,FALSE)) | BE11: Dim. | BF11: 8 | BH11: =IF((VLOOKUP($BE11,heure,4,FALSE))<=0,"",VLOOKUP($BE11,heure,4,FALSE))
B12: Mer. | C12: 9 | E12: =IF((VLOOKUP($B12,heure,4,FALSE))<=0,"",VLOOKUP($B12,heure,4,FALSE)) | G12: Ven. | H12: 9 | J12: =IF((VLOOKUP($G12,heure,4,FALSE))<=0,"",VLOOKUP($G12,heure,4,FALSE)) | L12: Lun. | M12: 9 | O12: =IF((VLOOKUP($L12,heure,4,FALSE))<=0,"",VLOOKUP($L12,heure,4,FALSE)) | Q12: Mer. | R12: 9 | T12: =IF((VLOOKUP($Q12,heure,4,FALSE))<=0,"",VLOOKUP($Q12,heure,4,FALSE)) | V12: Sam. | W12: 9 | Y12: =IF((VLOOKUP($V12,heure,4,FALSE))<=0,"",VLOOKUP($V12,heure,4,FALSE)) | AA12: Mar. | AB12: 9 | AD12: =IF((VLOOKUP($AA12,heure,4,FALSE))<=0,"",VLOOKUP($AA12,heure,4,FALSE)) | AF12: Mar. | AG12: 9 | AI12: =IF((VLOOKUP($AF12,heure,4,FALSE))<=0,"",VLOOKUP($AF12,heure,4,FALSE)) | AK12: Ven. | AL12: 9 | AN12: =IF((VLOOKUP($AK12,heure,4,FALSE))<=0,"",VLOOKUP($AK12,heure,4,FALSE)) | AP12: Dim. | AQ12: 9 | AS12: =IF((VLOOKUP($AP12,heure,4,FALSE))<=0,"",VLOOKUP($AP12,heure,4,FALSE)) | AU12: Mer. | AV12: 9 | AX12: =IF((VLOOKUP($AU12,heure,4,FALSE))<=0,"",VLOOKUP($AU12,heure,4,FALSE)) | AZ12: Ven. | BA12: 9 | BC12: =IF((VLOOKUP($AZ12,heure,4,FALSE))<=0,"",VLOOKUP($AZ12,heure,4,FALSE)) | BE12: Lun. | BF12: 9 | BH12: =IF((VLOOKUP($BE12,heure,4,FALSE))<=0,"",VLOOKUP($BE12,heure,4,FALSE))
B13: Jeu. | C13: 10 | E13: =IF((VLOOKUP($B13,heure,4,FALSE))<=0,"",VLOOKUP($B13,heure,4,FALSE)) | G13: Sam. | H13: 10 | J13: =IF((VLOOKUP($G13,heure,4,FALSE))<=0,"",VLOOKUP($G13,heure,4,FALSE)) | L13: Mar. | M13: 10 | O13: =IF((VLOOKUP($L13,heure,4,FALSE))<=0,"",VLOOKUP($L13,heure,4,FALSE)) | Q13: Jeu. | R13: 10 | T13: =IF((VLOOKUP($Q13,heure,4,FALSE))<=0,"",VLOOKUP($Q13,heure,4,FALSE)) | V13: Dim. | W13: 10 | Y13: =IF((VLOOKUP($V13,heure,4,FALSE))<=0,"",VLOOKUP($V13,heure,4,FALSE)) | AA13: Mer. | AB13: 10 | AD13: =IF((VLOOKUP($AA13,heure,4,FALSE))<=0,"",VLOOKUP($AA13,heure,4,FALSE)) | AF13: Mer. | AG13: 10 | AI13: =IF((VLOOKUP($AF13,heure,4,FALSE))<=0,"",VLOOKUP($AF13,heure,4,FALSE)) | AK13: Sam. | AL13: 10 | AN13: =IF((VLOOKUP($AK13,heure,4,FALSE))<=0,"",VLOOKUP($AK13,heure,4,FALSE)) | AP13: Lun. | AQ13: 10 | AS13: =IF((VLOOKUP($AP13,heure,4,FALSE))<=0,"",VLOOKUP($AP13,heure,4,FALSE)) | AU13: Jeu. | AV13: 10 | AX13: =IF((VLOOKUP($AU13,heure,4,FALSE))<=0,"",VLOOKUP($AU13,heure,4,FALSE)) | AZ13: Sam. | BA13: 10 | BC13: =IF((VLOOKUP($AZ13,heure,4,FALSE))<=0,"",VLOOKUP($AZ13,heure,4,FALSE)) | BE13: Mar. | BF13: 10 | BH13: =IF((VLOOKUP($BE13,heure,4,FALSE))<=0,"",VLOOKUP($BE13,heure,4,FALSE))
B14: Ven. | C14: 11 | E14: =IF((VLOOKUP($B14,heure,4,FALSE))<=0,"",VLOOKUP($B14,heure,4,FALSE)) | G14: Dim. | H14: 11 | J14: =IF((VLOOKUP($G14,heure,4,FALSE))<=0,"",VLOOKUP($G14,heure,4,FALSE)) | L14: Mer. | M14: 11 | N14: Armistice | O14: =IF((VLOOKUP($L14,heure,4,FALSE))<=0,"",VLOOKUP($L14,heure,4,FALSE)) | Q14: Ven. | R14: 11 | T14: =IF((VLOOKUP($Q14,heure,4,FALSE))<=0,"",VLOOKUP($Q14,heure,4,FALSE)) | V14: Lun. | W14: 11 | Y14: =IF((VLOOKUP($V14,heure,4,FALSE))<=0,"",VLOOKUP($V14,heure,4,FALSE)) | AA14: Jeu. | AB14: 11 | AD14: =IF((VLOOKUP($AA14,heure,4,FALSE))<=0,"",VLOOKUP($AA14,heure,4,FALSE)) | AF14: Jeu. | AG14: 11 | AI14: =IF((VLOOKUP($AF14,heure,4,FALSE))<=0,"",VLOOKUP($AF14,heure,4,FALSE)) | AK14: Dim. | AL14: 11 | AN14: =IF((VLOOKUP($AK14,heure,4,FALSE))<=0,"",VLOOKUP($AK14,heure,4,FALSE)) | AP14: Mar. | AQ14: 11 | AS14: =IF((VLOOKUP($AP14,heure,4,FALSE))<=0,"",VLOOKUP($AP14,heure,4,FALSE)) | AU14: Ven. | AV14: 11 | AX14: =IF((VLOOKUP($AU14,heure,4,FALSE))<=0,"",VLOOKUP($AU14,heure,4,FALSE)) | AZ14: Dim. | BA14: 11 | BC14: =IF((VLOOKUP($AZ14,heure,4,FALSE))<=0,"",VLOOKUP($AZ14,heure,4,FALSE)) | BE14: Mer. | BF14: 11 | BH14: =IF((VLOOKUP($BE14,heure,4,FALSE))<=0,"",VLOOKUP($BE14,heure,4,FALSE))
B15: Sam. | C15: 12 | E15: =IF((VLOOKUP($B15,heure,4,FALSE))<=0,"",VLOOKUP($B15,heure,4,FALSE)) | G15: Lun. | H15: 12 | J15: =IF((VLOOKUP($G15,heure,4,FALSE))<=0,"",VLOOKUP($G15,heure,4,FALSE)) | L15: Jeu. | M15: 12 | O15: =IF((VLOOKUP($L15,heure,4,FALSE))<=0,"",VLOOKUP($L15,heure,4,FALSE)) | Q15: Sam. | R15: 12 | T15: =IF((VLOOKUP($Q15,heure,4,FALSE))<=0,"",VLOOKUP($Q15,heure,4,FALSE)) | V15: Mar. | W15: 12 | Y15: =IF((VLOOKUP($V15,heure,4,FALSE))<=0,"",VLOOKUP($V15,heure,4,FALSE)) | AA15: Ven. | AB15: 12 | AD15: =IF((VLOOKUP($AA15,heure,4,FALSE))<=0,"",VLOOKUP($AA15,heure,4,FALSE)) | AF15: Ven. | AG15: 12 | AI15: =IF((VLOOKUP($AF15,heure,4,FALSE))<=0,"",VLOOKUP($AF15,heure,4,FALSE)) | AK15: Lun. | AL15: 12 | AN15: =IF((VLOOKUP($AK15,heure,4,FALSE))<=0,"",VLOOKUP($AK15,heure,4,FALSE)) | AP15: Mer. | AQ15: 12 | AS15: =IF((VLOOKUP($AP15,heure,4,FALSE))<=0,"",VLOOKUP($AP15,heure,4,FALSE)) | AU15: Sam. | AV15: 12 | AX15: =IF((VLOOKUP($AU15,heure,4,FALSE))<=0,"",VLOOKUP($AU15,heure,4,FALSE)) | AZ15: Lun. | BA15: 12 | BC15: =IF((VLOOKUP($AZ15,heure,4,FALSE))<=0,"",VLOOKUP($AZ15,heure,4,FALSE)) | BE15: Jeu. | BF15: 12 | BH15: =IF((VLOOKUP($BE15,heure,4,FALSE))<=0,"",VLOOKUP($BE15,heure,4,FALSE))
B16: Dim. | C16: 13 | E16: =IF((VLOOKUP($B16,heure,4,FALSE))<=0,"",VLOOKUP($B16,heure,4,FALSE)) | G16: Mar. | H16: 13 | J16: =IF((VLOOKUP($G16,heure,4,FALSE))<=0,"",VLOOKUP($G16,heure,4,FALSE)) | L16: Ven. | M16: 13 | O16: =IF((VLOOKUP($L16,heure,4,FALSE))<=0,"",VLOOKUP($L16,heure,4,FALSE)) | Q16: Dim. | R16: 13 | T16: =IF((VLOOKUP($Q16,heure,4,FALSE))<=0,"",VLOOKUP($Q16,heure,4,FALSE)) | V16: Mer. | W16: 13 | Y16: =IF((VLOOKUP($V16,heure,4,FALSE))<=0,"",VLOOKUP($V16,heure,4,FALSE)) | AA16: Sam. | AB16: 13 | AD16: =IF((VLOOKUP($AA16,heure,4,FALSE))<=0,"",VLOOKUP($AA16,heure,4,FALSE)) | AF16: Sam. | AG16: 13 | AI16: =IF((VLOOKUP($AF16,heure,4,FALSE))<=0,"",VLOOKUP($AF16,heure,4,FALSE)) | AK16: Mar. | AL16: 13 | AN16: =IF((VLOOKUP($AK16,heure,4,FALSE))<=0,"",VLOOKUP($AK16,heure,4,FALSE)) | AP16: Jeu. | AQ16: 13 | AS16: =IF((VLOOKUP($AP16,heure,4,FALSE))<=0,"",VLOOKUP($AP16,heure,4,FALSE)) | AU16: Dim. | AV16: 13 | AX16: =IF((VLOOKUP($AU16,heure,4,FALSE))<=0,"",VLOOKUP($AU16,heure,4,FALSE)) | AZ16: Mar. | BA16: 13 | BC16: =IF((VLOOKUP($AZ16,heure,4,FALSE))<=0,"",VLOOKUP($AZ16,heure,4,FALSE)) | BE16: Ven. | BF16: 13 | BH16: =IF((VLOOKUP($BE16,heure,4,FALSE))<=0,"",VLOOKUP($BE16,heure,4,FALSE))
B17: Lun. | C17: 14 | E17: =IF((VLOOKUP($B17,heure,4,FALSE))<=0,"",VLOOKUP($B17,heure,4,FALSE)) | G17: Mer. | H17: 14 | J17: =IF((VLOOKUP($G17,heure,4,FALSE))<=0,"",VLOOKUP($G17,heure,4,FALSE)) | L17: Sam. | M17: 14 | O17: =IF((VLOOKUP($L17,heure,4,FALSE))<=0,"",VLOOKUP($L17,heure,4,FALSE)) | Q17: Lun. | R17: 14 | T17: =IF((VLOOKUP($Q17,heure,4,FALSE))<=0,"",VLOOKUP($Q17,heure,4,FALSE)) | V17: Jeu. | W17: 14 | Y17: =IF((VLOOKUP($V17,heure,4,FALSE))<=0,"",VLOOKUP($V17,heure,4,FALSE)) | AA17: Dim. | AB17: 14 | AD17: =IF((VLOOKUP($AA17,heure,4,FALSE))<=0,"",VLOOKUP($AA17,heure,4,FALSE)) | AF17: Dim. | AG17: 14 | AI17: =IF((VLOOKUP($AF17,heure,4,FALSE))<=0,"",VLOOKUP($AF17,heure,4,FALSE)) | AK17: Mer. | AL17: 14 | AN17: =IF((VLOOKUP($AK17,heure,4,FALSE))<=0,"",VLOOKUP($AK17,heure,4,FALSE)) | AP17: Ven. | AQ17: 14 | AS17: =IF((VLOOKUP($AP17,heure,4,FALSE))<=0,"",VLOOKUP($AP17,heure,4,FALSE)) | AU17: Lun. | AV17: 14 | AX17: =IF((VLOOKUP($AU17,heure,4,FALSE))<=0,"",VLOOKUP($AU17,heure,4,FALSE)) | AZ17: Mer. | BA17: 14 | BB17: Fête nationale | BC17: =IF((VLOOKUP($AZ17,heure,4,FALSE))<=0,"",VLOOKUP($AZ17,heure,4,FALSE)) | BE17: Sam. | BF17: 14 | BH17: =IF((VLOOKUP($BE17,heure,4,FALSE))<=0,"",VLOOKUP($BE17,heure,4,FALSE))
B18: Mar. | C18: 15 | E18: =IF((VLOOKUP($B18,heure,4,FALSE))<=0,"",VLOOKUP($B18,heure,4,FALSE)) | G18: Jeu. | H18: 15 | J18: =IF((VLOOKUP($G18,heure,4,FALSE))<=0,"",VLOOKUP($G18,heure,4,FALSE)) | L18: Dim. | M18: 15 | O18: =IF((VLOOKUP($L18,heure,4,FALSE))<=0,"",VLOOKUP($L18,heure,4,FALSE)) | Q18: Mar. | R18: 15 | T18: =IF((VLOOKUP($Q18,heure,4,FALSE))<=0,"",VLOOKUP($Q18,heure,4,FALSE)) | V18: Ven. | W18: 15 | Y18: =IF((VLOOKUP($V18,heure,4,FALSE))<=0,"",VLOOKUP($V18,heure,4,FALSE)) | AA18: Lun. | AB18: 15 | AD18: =IF((VLOOKUP($AA18,heure,4,FALSE))<=0,"",VLOOKUP($AA18,heure,4,FALSE)) | AF18: Lun. | AG18: 15 | AI18: =IF((VLOOKUP($AF18,heure,4,FALSE))<=0,"",VLOOKUP($AF18,heure,4,FALSE)) | AK18: Jeu. | AL18: 15 | AN18: =IF((VLOOKUP($AK18,heure,4,FALSE))<=0,"",VLOOKUP($AK18,heure,4,FALSE)) | AP18: Sam. | AQ18: 15 | AS18: =IF((VLOOKUP($AP18,heure,4,FALSE))<=0,"",VLOOKUP($AP18,heure,4,FALSE)) | AU18: Mar. | AV18: 15 | AX18: =IF((VLOOKUP($AU18,heure,4,FALSE))<=0,"",VLOOKUP($AU18,heure,4,FALSE)) | AZ18: Jeu. | BA18: 15 | BC18: =IF((VLOOKUP($AZ18,heure,4,FALSE))<=0,"",VLOOKUP($AZ18,heure,4,FALSE)) | BE18: Dim. | BF18: 15 | BG18: Assomption | BH18: =IF((VLOOKUP($BE18,heure,4,FALSE))<=0,"",VLOOKUP($BE18,heure,4,FALSE))
B19: Mer. | C19: 16 | E19: =IF((VLOOKUP($B19,heure,4,FALSE))<=0,"",VLOOKUP($B19,heure,4,FALSE)) | G19: Ven. | H19: 16 | J19: =IF((VLOOKUP($G19,heure,4,FALSE))<=0,"",VLOOKUP($G19,heure,4,FALSE)) | L19: Lun. | M19: 16 | O19: =IF((VLOOKUP($L19,heure,4,FALSE))<=0,"",VLOOKUP($L19,heure,4,FALSE)) | Q19: Mer. | R19: 16 | T19: =IF((VLOOKUP($Q19,heure,4,FALSE))<=0,"",VLOOKUP($Q19,heure,4,FALSE)) | V19: Sam. | W19: 16 | Y19: =IF((VLOOKUP($V19,heure,4,FALSE))<=0,"",VLOOKUP($V19,heure,4,FALSE)) | AA19: Mar. | AB19: 16 | AD19: =IF((VLOOKUP($AA19,heure,4,FALSE))<=0,"",VLOOKUP($AA19,heure,4,FALSE)) | AF19: Mar. | AG19: 16 | AI19: =IF((VLOOKUP($AF19,heure,4,FALSE))<=0,"",VLOOKUP($AF19,heure,4,FALSE)) | AK19: Ven. | AL19: 16 | AN19: =IF((VLOOKUP($AK19,heure,4,FALSE))<=0,"",VLOOKUP($AK19,heure,4,FALSE)) | AP19: Dim. | AQ19: 16 | AS19: =IF((VLOOKUP($AP19,heure,4,FALSE))<=0,"",VLOOKUP($AP19,heure,4,FALSE)) | AU19: Mer. | AV19: 16 | AX19: =IF((VLOOKUP($AU19,heure,4,FALSE))<=0,"",VLOOKUP($AU19,heure,4,FALSE)) | AZ19: Ven. | BA19: 16 | BC19: =IF((VLOOKUP($AZ19,heure,4,FALSE))<=0,"",VLOOKUP($AZ19,heure,4,FALSE)) | BE19: Lun. | BF19: 16 | BH19: =IF((VLOOKUP($BE19,heure,4,FALSE))<=0,"",VLOOKUP($BE19,heure,4,FALSE))
B20: Jeu. | C20: 17 | E20: =IF((VLOOKUP($B20,heure,4,FALSE))<=0,"",VLOOKUP($B20,heure,4,FALSE)) | G20: Sam. | H20: 17 | J20: =IF((VLOOKUP($G20,heure,4,FALSE))<=0,"",VLOOKUP($G20,heure,4,FALSE)) | L20: Mar. | M20: 17 | O20: =IF((VLOOKUP($L20,heure,4,FALSE))<=0,"",VLOOKUP($L20,heure,4,FALSE)) | Q20: Jeu. | R20: 17 | T20: =IF((VLOOKUP($Q20,heure,4,FALSE))<=0,"",VLOOKUP($Q20,heure,4,FALSE)) | V20: Dim. | W20: 17 | Y20: =IF((VLOOKUP($V20,heure,4,FALSE))<=0,"",VLOOKUP($V20,heure,4,FALSE)) | AA20: Mer. | AB20: 17 | AD20: =IF((VLOOKUP($AA20,heure,4,FALSE))<=0,"",VLOOKUP($AA20,heure,4,FALSE)) | AF20: Mer. | AG20: 17 | AI20: =IF((VLOOKUP($AF20,heure,4,FALSE))<=0,"",VLOOKUP($AF20,heure,4,FALSE)) | AK20: Sam. | AL20: 17 | AN20: =IF((VLOOKUP($AK20,heure,4,FALSE))<=0,"",VLOOKUP($AK20,heure,4,FALSE)) | AP20: Lun. | AQ20: 17 | AR20: Pentecôte | AS20: =IF((VLOOKUP($AP20,heure,4,FALSE))<=0,"",VLOOKUP($AP20,heure,4,FALSE)) | AU20: Jeu. | AV20: 17 | AX20: =IF((VLOOKUP($AU20,heure,4,FALSE))<=0,"",VLOOKUP($AU20,heure,4,FALSE)) | AZ20: Sam. | BA20: 17 | BC20: =IF((VLOOKUP($AZ20,heure,4,FALSE))<=0,"",VLOOKUP($AZ20,heure,4,FALSE)) | BE20: Mar. | BF20: 17 | BH20: =IF((VLOOKUP($BE20,heure,4,FALSE))<=0,"",VLOOKUP($BE20,heure,4,FALSE))
B21: Ven. | C21: 18 | E21: =IF((VLOOKUP($B21,heure,4,FALSE))<=0,"",VLOOKUP($B21,heure,4,FALSE)) | G21: Dim. | H21: 18 | J21: =IF((VLOOKUP($G21,heure,4,FALSE))<=0,"",VLOOKUP($G21,heure,4,FALSE)) | L21: Mer. | M21: 18 | O21: =IF((VLOOKUP($L21,heure,4,FALSE))<=0,"",VLOOKUP($L21,heure,4,FALSE)) | Q21: Ven. | R21: 18 | T21: =IF((VLOOKUP($Q21,heure,4,FALSE))<=0,"",VLOOKUP($Q21,heure,4,FALSE)) | V21: Lun. | W21: 18 | Y21: =IF((VLOOKUP($V21,heure,4,FALSE))<=0,"",VLOOKUP($V21,heure,4,FALSE)) | AA21: Jeu. | AB21: 18 | AD21: =IF((VLOOKUP($AA21,heure,4,FALSE))<=0,"",VLOOKUP($AA21,heure,4,FALSE)) | AF21: Jeu. | AG21: 18 | AI21: =IF((VLOOKUP($AF21,heure,4,FALSE))<=0,"",VLOOKUP($AF21,heure,4,FALSE)) | AK21: Dim. | AL21: 18 | AN21: =IF((VLOOKUP($AK21,heure,4,FALSE))<=0,"",VLOOKUP($AK21,heure,4,FALSE)) | AP21: Mar. | AQ21: 18 | AS21: =IF((VLOOKUP($AP21,heure,4,FALSE))<=0,"",VLOOKUP($AP21,heure,4,FALSE)) | AU21: Ven. | AV21: 18 | AX21: =IF((VLOOKUP($AU21,heure,4,FALSE))<=0,"",VLOOKUP($AU21,heure,4,FALSE)) | AZ21: Dim. | BA21: 18 | BC21: =IF((VLOOKUP($AZ21,heure,4,FALSE))<=0,"",VLOOKUP($AZ21,heure,4,FALSE)) | BE21: Mer. | BF21: 18 | BH21: =IF((VLOOKUP($BE21,heure,4,FALSE))<=0,"",VLOOKUP($BE21,heure,4,FALSE))
B22: Sam. | C22: 19 | E22: =IF((VLOOKUP($B22,heure,4,FALSE))<=0,"",VLOOKUP($B22,heure,4,FALSE)) | G22: Lun. | H22: 19 | J22: =IF((VLOOKUP($G22,heure,4,FALSE))<=0,"",VLOOKUP($G22,heure,4,FALSE)) | L22: Jeu. | M22: 19 | O22: =IF((VLOOKUP($L22,heure,4,FALSE))<=0,"",VLOOKUP($L22,heure,4,FALSE)) | Q22: Sam. | R22: 19 | T22: =IF((VLOOKUP($Q22,heure,4,FALSE))<=0,"",VLOOKUP($Q22,heure,4,FALSE)) | V22: Mar. | W22: 19 | Y22: =IF((VLOOKUP($V22,heure,4,FALSE))<=0,"",VLOOKUP($V22,heure,4,FALSE)) | AA22: Ven. | AB22: 19 | AD22: =IF((VLOOKUP($AA22,heure,4,FALSE))<=0,"",VLOOKUP($AA22,heure,4,FALSE)) | AF22: Ven. | AG22: 19 | AI22: =IF((VLOOKUP($AF22,heure,4,FALSE))<=0,"",VLOOKUP($AF22,heure,4,FALSE)) | AK22: Lun. | AL22: 19 | AN22: =IF((VLOOKUP($AK22,heure,4,FALSE))<=0,"",VLOOKUP($AK22,heure,4,FALSE)) | AP22: Mer. | AQ22: 19 | AS22: =IF((VLOOKUP($AP22,heure,4,FALSE))<=0,"",VLOOKUP($AP22,heure,4,FALSE)) | AU22: Sam. | AV22: 19 | AX22: =IF((VLOOKUP($AU22,heure,4,FALSE))<=0,"",VLOOKUP($AU22,heure,4,FALSE)) | AZ22: Lun. | BA22: 19 | BC22: =IF((VLOOKUP($AZ22,heure,4,FALSE))<=0,"",VLOOKUP($AZ22,heure,4,FALSE)) | BE22: Jeu. | BF22: 19 | BH22: =IF((VLOOKUP($BE22,heure,4,FALSE))<=0,"",VLOOKUP($BE22,heure,4,FALSE))
B23: Dim. | C23: 20 | E23: =IF((VLOOKUP($B23,heure,4,FALSE))<=0,"",VLOOKUP($B23,heure,4,FALSE)) | G23: Mar. | H23: 20 | J23: =IF((VLOOKUP($G23,heure,4,FALSE))<=0,"",VLOOKUP($G23,heure,4,FALSE)) | L23: Ven. | M23: 20 | O23: =IF((VLOOKUP($L23,heure,4,FALSE))<=0,"",VLOOKUP($L23,heure,4,FALSE)) | Q23: Dim. | R23: 20 | T23: =IF((VLOOKUP($Q23,heure,4,FALSE))<=0,"",VLOOKUP($Q23,heure,4,FALSE)) | V23: Mer. | W23: 20 | Y23: =IF((VLOOKUP($V23,heure,4,FALSE))<=0,"",VLOOKUP($V23,heure,4,FALSE)) | AA23: Sam. | AB23: 20 | AD23: =IF((VLOOKUP($AA23,heure,4,FALSE))<=0,"",VLOOKUP($AA23,heure,4,FALSE)) | AF23: Sam. | AG23: 20 | AI23: =IF((VLOOKUP($AF23,heure,4,FALSE))<=0,"",VLOOKUP($AF23,heure,4,FALSE)) | AK23: Mar. | AL23: 20 | AN23: =IF((VLOOKUP($AK23,heure,4,FALSE))<=0,"",VLOOKUP($AK23,heure,4,FALSE)) | AP23: Jeu. | AQ23: 20 | AS23: =IF((VLOOKUP($AP23,heure,4,FALSE))<=0,"",VLOOKUP($AP23,heure,4,FALSE)) | AU23: Dim. | AV23: 20 | AX23: =IF((VLOOKUP($AU23,heure,4,FALSE))<=0,"",VLOOKUP($AU23,heure,4,FALSE)) | AZ23: Mar. | BA23: 20 | BC23: =IF((VLOOKUP($AZ23,heure,4,FALSE))<=0,"",VLOOKUP($AZ23,heure,4,FALSE)) | BE23: Ven. | BF23: 20 | BH23: =IF((VLOOKUP($BE23,heure,4,FALSE))<=0,"",VLOOKUP($BE23,heure,4,FALSE))
B24: Lun. | C24: 21 | E24: =IF((VLOOKUP($B24,heure,4,FALSE))<=0,"",VLOOKUP($B24,heure,4,FALSE)) | G24: Mer. | H24: 21 | J24: =IF((VLOOKUP($G24,heure,4,FALSE))<=0,"",VLOOKUP($G24,heure,4,FALSE)) | L24: Sam. | M24: 21 | O24: =IF((VLOOKUP($L24,heure,4,FALSE))<=0,"",VLOOKUP($L24,heure,4,FALSE)) | Q24: Lun. | R24: 21 | T24: =IF((VLOOKUP($Q24,heure,4,FALSE))<=0,"",VLOOKUP($Q24,heure,4,FALSE)) | V24: Jeu. | W24: 21 | Y24: =IF((VLOOKUP($V24,heure,4,FALSE))<=0,"",VLOOKUP($V24,heure,4,FALSE)) | AA24: Dim. | AB24: 21 | AD24: =IF((VLOOKUP($AA24,heure,4,FALSE))<=0,"",VLOOKUP($AA24,heure,4,FALSE)) | AF24: Dim. | AG24: 21 | AI24: =IF((VLOOKUP($AF24,heure,4,FALSE))<=0,"",VLOOKUP($AF24,heure,4,FALSE)) | AK24: Mer. | AL24: 21 | AN24: =IF((VLOOKUP($AK24,heure,4,FALSE))<=0,"",VLOOKUP($AK24,heure,4,FALSE)) | AP24: Ven. | AQ24: 21 | AS24: =IF((VLOOKUP($AP24,heure,4,FALSE))<=0,"",VLOOKUP($AP24,heure,4,FALSE)) | AU24: Lun. | AV24: 21 | AX24: =IF((VLOOKUP($AU24,heure,4,FALSE))<=0,"",VLOOKUP($AU24,heure,4,FALSE)) | AZ24: Mer. | BA24: 21 | BC24: =IF((VLOOKUP($AZ24,heure,4,FALSE))<=0,"",VLOOKUP($AZ24,heure,4,FALSE)) | BE24: Sam. | BF24: 21 | BH24: =IF((VLOOKUP($BE24,heure,4,FALSE))<=0,"",VLOOKUP($BE24,heure,4,FALSE))
B25: Mar. | C25: 22 | E25: =IF((VLOOKUP($B25,heure,4,FALSE))<=0,"",VLOOKUP($B25,heure,4,FALSE)) | G25: Jeu. | H25: 22 | J25: =IF((VLOOKUP($G25,heure,4,FALSE))<=0,"",VLOOKUP($G25,heure,4,FALSE)) | L25: Dim. | M25: 22 | O25: =IF((VLOOKUP($L25,heure,4,FALSE))<=0,"",VLOOKUP($L25,heure,4,FALSE)) | Q25: Mar. | R25: 22 | T25: =IF((VLOOKUP($Q25,heure,4,FALSE))<=0,"",VLOOKUP($Q25,heure,4,FALSE)) | V25: Ven. | W25: 22 | Y25: =IF((VLOOKUP($V25,heure,4,FALSE))<=0,"",VLOOKUP($V25,heure,4,FALSE)) | AA25: Lun. | AB25: 22 | AD25: =IF((VLOOKUP($AA25,heure,4,FALSE))<=0,"",VLOOKUP($AA25,heure,4,FALSE)) | AF25: Lun. | AG25: 22 | AI25: =IF((VLOOKUP($AF25,heure,4,FALSE))<=0,"",VLOOKUP($AF25,heure,4,FALSE)) | AK25: Jeu. | AL25: 22 | AN25: =IF((VLOOKUP($AK25,heure,4,FALSE))<=0,"",VLOOKUP($AK25,heure,4,FALSE)) | AP25: Sam. | AQ25: 22 | AS25: =IF((VLOOKUP($AP25,heure,4,FALSE))<=0,"",VLOOKUP($AP25,heure,4,FALSE)) | AU25: Mar. | AV25: 22 | AX25: =IF((VLOOKUP($AU25,heure,4,FALSE))<=0,"",VLOOKUP($AU25,heure,4,FALSE)) | AZ25: Jeu. | BA25: 22 | BC25: =IF((VLOOKUP($AZ25,heure,4,FALSE))<=0,"",VLOOKUP($AZ25,heure,4,FALSE)) | BE25: Dim. | BF25: 22 | BH25: =IF((VLOOKUP($BE25,heure,4,FALSE))<=0,"",VLOOKUP($BE25,heure,4,FALSE))
B26: Mer. | C26: 23 | E26: =IF((VLOOKUP($B26,heure,4,FALSE))<=0,"",VLOOKUP($B26,heure,4,FALSE)) | G26: Ven. | H26: 23 | J26: =IF((VLOOKUP($G26,heure,4,FALSE))<=0,"",VLOOKUP($G26,heure,4,FALSE)) | L26: Lun. | M26: 23 | O26: =IF((VLOOKUP($L26,heure,4,FALSE))<=0,"",VLOOKUP($L26,heure,4,FALSE)) | Q26: Mer. | R26: 23 | T26: =IF((VLOOKUP($Q26,heure,4,FALSE))<=0,"",VLOOKUP($Q26,heure,4,FALSE)) | V26: Sam. | W26: 23 | Y26: =IF((VLOOKUP($V26,heure,4,FALSE))<=0,"",VLOOKUP($V26,heure,4,FALSE)) | AA26: Mar. | AB26: 23 | AD26: =IF((VLOOKUP($AA26,heure,4,FALSE))<=0,"",VLOOKUP($AA26,heure,4,FALSE)) | AF26: Mar. | AG26: 23 | AI26: =IF((VLOOKUP($AF26,heure,4,FALSE))<=0,"",VLOOKUP($AF26,heure,4,FALSE)) | AK26: Ven. | AL26: 23 | AN26: =IF((VLOOKUP($AK26,heure,4,FALSE))<=0,"",VLOOKUP($AK26,heure,4,FALSE)) | AP26: Dim. | AQ26: 23 | AS26: =IF((VLOOKUP($AP26,heure,4,FALSE))<=0,"",VLOOKUP($AP26,heure,4,FALSE)) | AU26: Mer. | AV26: 23 | AX26: =IF((VLOOKUP($AU26,heure,4,FALSE))<=0,"",VLOOKUP($AU26,heure,4,FALSE)) | AZ26: Ven. | BA26: 23 | BC26: =IF((VLOOKUP($AZ26,heure,4,FALSE))<=0,"",VLOOKUP($AZ26,heure,4,FALSE)) | BE26: Lun. | BF26: 23 | BH26: =IF((VLOOKUP($BE26,heure,4,FALSE))<=0,"",VLOOKUP($BE26,heure,4,FALSE))
B27: Jeu. | C27: 24 | E27: =IF((VLOOKUP($B27,heure,4,FALSE))<=0,"",VLOOKUP($B27,heure,4,FALSE)) | G27: Sam. | H27: 24 | J27: =IF((VLOOKUP($G27,heure,4,FALSE))<=0,"",VLOOKUP($G27,heure,4,FALSE)) | L27: Mar. | M27: 24 | O27: =IF((VLOOKUP($L27,heure,4,FALSE))<=0,"",VLOOKUP($L27,heure,4,FALSE)) | Q27: Jeu. | R27: 24 | T27: =IF((VLOOKUP($Q27,heure,4,FALSE))<=0,"",VLOOKUP($Q27,heure,4,FALSE)) | V27: Dim. | W27: 24 | Y27: =IF((VLOOKUP($V27,heure,4,FALSE))<=0,"",VLOOKUP($V27,heure,4,FALSE)) | AA27: Mer. | AB27: 24 | AD27: =IF((VLOOKUP($AA27,heure,4,FALSE))<=0,"",VLOOKUP($AA27,heure,4,FALSE)) | AF27: Mer. | AG27: 24 | AI27: =IF((VLOOKUP($AF27,heure,4,FALSE))<=0,"",VLOOKUP($AF27,heure,4,FALSE)) | AK27: Sam. | AL27: 24 | AN27: =IF((VLOOKUP($AK27,heure,4,FALSE))<=0,"",VLOOKUP($AK27,heure,4,FALSE)) | AP27: Lun. | AQ27: 24 | AS27: =IF((VLOOKUP($AP27,heure,4,FALSE))<=0,"",VLOOKUP($AP27,heure,4,FALSE)) | AU27: Jeu. | AV27: 24 | AX27: =IF((VLOOKUP($AU27,heure,4,FALSE))<=0,"",VLOOKUP($AU27,heure,4,FALSE)) | AZ27: Sam. | BA27: 24 | BC27: =IF((VLOOKUP($AZ27,heure,4,FALSE))<=0,"",VLOOKUP($AZ27,heure,4,FALSE)) | BE27: Mar. | BF27: 24 | BH27: =IF((VLOOKUP($BE27,heure,4,FALSE))<=0,"",VLOOKUP($BE27,heure,4,FALSE))
B28: Ven. | C28: 25 | E28: =IF((VLOOKUP($B28,heure,4,FALSE))<=0,"",VLOOKUP($B28,heure,4,FALSE)) | G28: Dim. | H28: 25 | J28: =IF((VLOOKUP($G28,heure,4,FALSE))<=0,"",VLOOKUP($G28,heure,4,FALSE)) | L28: Mer. | M28: 25 | O28: =IF((VLOOKUP($L28,heure,4,FALSE))<=0,"",VLOOKUP($L28,heure,4,FALSE)) | Q28: Ven. | R28: 25 | S28: Noël | T28: =IF((VLOOKUP($Q28,heure,4,FALSE))<=0,"",VLOOKUP($Q28,heure,4,FALSE)) | V28: Lun. | W28: 25 | Y28: =IF((VLOOKUP($V28,heure,4,FALSE))<=0,"",VLOOKUP($V28,heure,4,FALSE)) | AA28: Jeu. | AB28: 25 | AD28: =IF((VLOOKUP($AA28,heure,4,FALSE))<=0,"",VLOOKUP($AA28,heure,4,FALSE)) | AF28: Jeu. | AG28: 25 | AI28: =IF((VLOOKUP($AF28,heure,4,FALSE))<=0,"",VLOOKUP($AF28,heure,4,FALSE)) | AK28: Dim. | AL28: 25 | AN28: =IF((VLOOKUP($AK28,heure,4,FALSE))<=0,"",VLOOKUP($AK28,heure,4,FALSE)) | AP28: Mar. | AQ28: 25 | AS28: =IF((VLOOKUP($AP28,heure,4,FALSE))<=0,"",VLOOKUP($AP28,heure,4,FALSE)) | AU28: Ven. | AV28: 25 | AX28: =IF((VLOOKUP($AU28,heure,4,FALSE))<=0,"",VLOOKUP($AU28,heure,4,FALSE)) | AZ28: Dim. | BA28: 25 | BC28: =IF((VLOOKUP($AZ28,heure,4,FALSE))<=0,"",VLOOKUP($AZ28,heure,4,FALSE)) | BE28: Mer. | BF28: 25 | BH28: =IF((VLOOKUP($BE28,heure,4,FALSE))<=0,"",VLOOKUP($BE28,heure,4,FALSE))
B29: Sam. | C29: 26 | E29: =IF((VLOOKUP($B29,heure,4,FALSE))<=0,"",VLOOKUP($B29,heure,4,FALSE)) | G29: Lun. | H29: 26 | J29: =IF((VLOOKUP($G29,heure,4,FALSE))<=0,"",VLOOKUP($G29,heure,4,FALSE)) | L29: Jeu. | M29: 26 | O29: =IF((VLOOKUP($L29,heure,4,FALSE))<=0,"",VLOOKUP($L29,heure,4,FALSE)) | Q29: Sam. | R29: 26 | T29: =IF((VLOOKUP($Q29,heure,4,FALSE))<=0,"",VLOOKUP($Q29,heure,4,FALSE)) | V29: Mar. | W29: 26 | Y29: =IF((VLOOKUP($V29,heure,4,FALSE))<=0,"",VLOOKUP($V29,heure,4,FALSE)) | AA29: Ven. | AB29: 26 | AD29: =IF((VLOOKUP($AA29,heure,4,FALSE))<=0,"",VLOOKUP($AA29,heure,4,FALSE)) | AF29: Ven. | AG29: 26 | AI29: =IF((VLOOKUP($AF29,heure,4,FALSE))<=0,"",VLOOKUP($AF29,heure,4,FALSE)) | AK29: Lun. | AL29: 26 | AN29: =IF((VLOOKUP($AK29,heure,4,FALSE))<=0,"",VLOOKUP($AK29,heure,4,FALSE)) | AP29: Mer. | AQ29: 26 | AS29: =IF((VLOOKUP($AP29,heure,4,FALSE))<=0,"",VLOOKUP($AP29,heure,4,FALSE)) | AU29: Sam. | AV29: 26 | AX29: =IF((VLOOKUP($AU29,heure,4,FALSE))<=0,"",VLOOKUP($AU29,heure,4,FALSE)) | AZ29: Lun. | BA29: 26 | BC29: =IF((VLOOKUP($AZ29,heure,4,FALSE))<=0,"",VLOOKUP($AZ29,heure,4,FALSE)) | BE29: Jeu. | BF29: 26 | BH29: =IF((VLOOKUP($BE29,heure,4,FALSE))<=0,"",VLOOKUP($BE29,heure,4,FALSE))
B30: Dim. | C30: 27 | E30: =IF((VLOOKUP($B30,heure,4,FALSE))<=0,"",VLOOKUP($B30,heure,4,FALSE)) | G30: Mar. | H30: 27 | J30: =IF((VLOOKUP($G30,heure,4,FALSE))<=0,"",VLOOKUP($G30,heure,4,FALSE)) | L30: Ven. | M30: 27 | O30: =IF((VLOOKUP($L30,heure,4,FALSE))<=0,"",VLOOKUP($L30,heure,4,FALSE)) | Q30: Dim. | R30: 27 | T30: =IF((VLOOKUP($Q30,heure,4,FALSE))<=0,"",VLOOKUP($Q30,heure,4,FALSE)) | V30: Mer. | W30: 27 | Y30: =IF((VLOOKUP($V30,heure,4,FALSE))<=0,"",VLOOKUP($V30,heure,4,FALSE)) | AA30: Sam. | AB30: 27 | AD30: =IF((VLOOKUP($AA30,heure,4,FALSE))<=0,"",VLOOKUP($AA30,heure,4,FALSE)) | AF30: Sam. | AG30: 27 | AI30: =IF((VLOOKUP($AF30,heure,4,FALSE))<=0,"",VLOOKUP($AF30,heure,4,FALSE)) | AK30: Mar. | AL30: 27 | AN30: =IF((VLOOKUP($AK30,heure,4,FALSE))<=0,"",VLOOKUP($AK30,heure,4,FALSE)) | AP30: Jeu. | AQ30: 27 | AS30: =IF((VLOOKUP($AP30,heure,4,FALSE))<=0,"",VLOOKUP($AP30,heure,4,FALSE)) | AU30: Dim. | AV30: 27 | AX30: =IF((VLOOKUP($AU30,heure,4,FALSE))<=0,"",VLOOKUP($AU30,heure,4,FALSE)) | AZ30: Mar. | BA30: 27 | BC30: =IF((VLOOKUP($AZ30,heure,4,FALSE))<=0,"",VLOOKUP($AZ30,heure,4,FALSE)) | BE30: Ven. | BF30: 27 | BH30: =IF((VLOOKUP($BE30,heure,4,FALSE))<=0,"",VLOOKUP($BE30,heure,4,FALSE))
B31: Lun. | C31: 28 | E31: =IF((VLOOKUP($B31,heure,4,FALSE))<=0,"",VLOOKUP($B31,heure,4,FALSE)) | G31: Mer. | H31: 28 | J31: =IF((VLOOKUP($G31,heure,4,FALSE))<=0,"",VLOOKUP($G31,heure,4,FALSE)) | L31: Sam. | M31: 28 | O31: =IF((VLOOKUP($L31,heure,4,FALSE))<=0,"",VLOOKUP($L31,heure,4,FALSE)) | Q31: Lun. | R31: 28 | T31: =IF((VLOOKUP($Q31,heure,4,FALSE))<=0,"",VLOOKUP($Q31,heure,4,FALSE)) | V31: Jeu. | W31: 28 | Y31: =IF((VLOOKUP($V31,heure,4,FALSE))<=0,"",VLOOKUP($V31,heure,4,FALSE)) | AA31: Dim. | AB31: 28 | AD31: =IF((VLOOKUP($AA31,heure,4,FALSE))<=0,"",VLOOKUP($AA31,heure,4,FALSE)) | AF31: Dim. | AG31: 28 | AI31: =IF((VLOOKUP($AF31,heure,4,FALSE))<=0,"",VLOOKUP($AF31,heure,4,FALSE)) | AK31: Mer. | AL31: 28 | AN31: =IF((VLOOKUP($AK31,heure,4,FALSE))<=0,"",VLOOKUP($AK31,heure,4,FALSE)) | AP31: Ven. | AQ31: 28 | AS31: =IF((VLOOKUP($AP31,heure,4,FALSE))<=0,"",VLOOKUP($AP31,heure,4,FALSE)) | AU31: Lun. | AV31: 28 | AX31: =IF((VLOOKUP($AU31,heure,4,FALSE))<=0,"",VLOOKUP($AU31,heure,4,FALSE)) | AZ31: Mer. | BA31: 28 | BC31: =IF((VLOOKUP($AZ31,heure,4,FALSE))<=0,"",VLOOKUP($AZ31,heure,4,FALSE)) | BE31: Sam. | BF31: 28 | BH31: =IF((VLOOKUP($BE31,heure,4,FALSE))<=0,"",VLOOKUP($BE31,heure,4,FALSE))
B32: Mar. | C32: 29 | E32: =IF((VLOOKUP($B32,heure,4,FALSE))<=0,"",VLOOKUP($B32,heure,4,FALSE)) | G32: Jeu. | H32: 29 | J32: =IF((VLOOKUP($G32,heure,4,FALSE))<=0,"",VLOOKUP($G32,heure,4,FALSE)) | L32: Dim. | M32: 29 | O32: =IF((VLOOKUP($L32,heure,4,FALSE))<=0,"",VLOOKUP($L32,heure,4,FALSE)) | Q32: Mar. | R32: 29 | T32: =IF((VLOOKUP($Q32,heure,4,FALSE))<=0,"",VLOOKUP($Q32,heure,4,FALSE)) | V32: Ven. | W32: 29 | Y32: =IF((VLOOKUP($V32,heure,4,FALSE))<=0,"",VLOOKUP($V32,heure,4,FALSE)) | AF32: Lun. | AG32: 29 | AH32: Pâques | AI32: =IF((VLOOKUP($AF32,heure,4,FALSE))<=0,"",VLOOKUP($AF32,heure,4,FALSE)) | AK32: Jeu. | AL32: 29 | AN32: =IF((VLOOKUP($AK32,heure,4,FALSE))<=0,"",VLOOKUP($AK32,heure,4,FALSE)) | AP32: Sam. | AQ32: 29 | AS32: =IF((VLOOKUP($AP32,heure,4,FALSE))<=0,"",VLOOKUP($AP32,heure,4,FALSE)) | AU32: Mar. | AV32: 29 | AX32: =IF((VLOOKUP($AU32,heure,4,FALSE))<=0,"",VLOOKUP($AU32,heure,4,FALSE)) | AZ32: Jeu. | BA32: 29 | BC32: =IF((VLOOKUP($AZ32,heure,4,FALSE))<=0,"",VLOOKUP($AZ32,heure,4,FALSE)) | BE32: Dim. | BF32: 29 | BH32: =IF((VLOOKUP($BE32,heure,4,FALSE))<=0,"",VLOOKUP($BE32,heure,4,FALSE))
B33: Mer. | C33: 30 | E33: =IF((VLOOKUP($B33,heure,4,FALSE))<=0,"",VLOOKUP($B33,heure,4,FALSE)) | G33: Ven. | H33: 30 | J33: =IF((VLOOKUP($G33,heure,4,FALSE))<=0,"",VLOOKUP($G33,heure,4,FALSE)) | L33: Lun. | M33: 30 | O33: =IF((VLOOKUP($L33,heure,4,FALSE))<=0,"",VLOOKUP($L33,heure,4,FALSE)) | Q33: Mer. | R33: 30 | T33: =IF((VLOOKUP($Q33,heure,4,FALSE))<=0,"",VLOOKUP($Q33,heure,4,FALSE)) | V33: Sam. | W33: 30 | Y33: =IF((VLOOKUP($V33,heure,4,FALSE))<=0,"",VLOOKUP($V33,heure,4,FALSE)) | AF33: Mar. | AG33: 30 | AI33: =IF((VLOOKUP($AF33,heure,4,FALSE))<=0,"",VLOOKUP($AF33,heure,4,FALSE)) | AK33: Ven. | AL33: 30 | AN33: =IF((VLOOKUP($AK33,heure,4,FALSE))<=0,"",VLOOKUP($AK33,heure,4,FALSE)) | AP33: Dim. | AQ33: 30 | AS33: =IF((VLOOKUP($AP33,heure,4,FALSE))<=0,"",VLOOKUP($AP33,heure,4,FALSE)) | AU33: Mer. | AV33: 30 | AX33: =IF((VLOOKUP($AU33,heure,4,FALSE))<=0,"",VLOOKUP($AU33,heure,4,FALSE)) | AZ33: Ven. | BA33: 30 | BC33: =IF((VLOOKUP($AZ33,heure,4,FALSE))<=0,"",VLOOKUP($AZ33,heure,4,FALSE)) | BE33: Lun. | BF33: 30 | BH33: =IF((VLOOKUP($BE33,heure,4,FALSE))<=0,"",VLOOKUP($BE33,heure,4,FALSE))
G34: Sam. | H34: 31 | J34: =IF((VLOOKUP($G34,heure,4,FALSE))<=0,"",VLOOKUP($G34,heure,4,FALSE)) | Q34: Jeu. | R34: 31 | T34: =IF((VLOOKUP($Q34,heure,4,FALSE))<=0,"",VLOOKUP($Q34,heure,4,FALSE)) | V34: Dim. | W34: 31 | Y34: =IF((VLOOKUP($V34,heure,4,FALSE))<=0,"",VLOOKUP($V34,heure,4,FALSE)) | AF34: Mer. | AG34: 31 | AI34: =IF((VLOOKUP($AF34,heure,4,FALSE))<=0,"",VLOOKUP($AF34,heure,4,FALSE)) | AP34: Lun. | AQ34: 31 | AS34: =IF((VLOOKUP($AP34,heure,4,FALSE))<=0,"",VLOOKUP($AP34,heure,4,FALSE)) | AZ34: Sam. | BA34: 31 | BC34: =IF((VLOOKUP($AZ34,heure,4,FALSE))<=0,"",VLOOKUP($AZ34,heure,4,FALSE)) | BE34: Mar. | BF34: 31 | BH34: =IF((VLOOKUP($BE34,heure,4,FALSE))<=0,"",VLOOKUP($BE34,heure,4,FALSE))
B35: Sept. | D35: =SUM(E4:E33) -> 0 | G35: Oct. | I35: =SUM(J4:J34) -> 0 | L35: Nov. | N35: =SUM(O4:O33) -> 0 | Q35: Déc. | S35: =SUM(T4:T34) -> 0 | V35: Janv. | X35: =SUM(Y4:Y34) -> 0 | AA35: Fev. | AC35: =SUM(AD4:AD33) -> 0 | AF35: Mars | AH35: =SUM(AI4:AI34) -> 0 | AK35: Avril | AM35: =SUM(AN4:AN33) -> 0 | AP35: Mai | AR35: =SUM(AS4:AS34) -> 0 | AU35: Juin | AW35: =SUM(AX4:AX33) -> 0 | AZ35: Juil | BB35: =SUM(BC4:BC34) -> 0 | BE35: Aout | BG35: =SUM(BH4:BH34) -> 0
S39: Temps de travail annuel | X39: 66.958333 | AC39: Mode d'emploi
S40: Quotité de travail | X40: 1 | AD40: remplir les cases violettes.
S41: Temps de travail à faire | X41: =Feuil2!C3 -> 66.375 | AD41: Repas : temps de travail décompté le cas échéant
B42: SEMAINE | D42: repas | E42: arrivée | G42: départ | I42: durée | J42: Hebdo | S42: Heures effectuées | X42: =D35+I35+N35+S35+X35+AC35+AH35+AM35+AR35+AW35+BB35+BG35 -> 0 | AD42: arrivée : Heure de début
B43: Lun | D43: 0 | E43: 0 | G43: 0 | I43: =Feuil2!I2 -> 0 | J43: =SUM(I43:I48) -> 0 | S43: Solde | X43: =Feuil2!C6 -> 66.375 | AD43: Départ : heure de fin
B44: Mar | D44: 0 | E44: 0 | G44: 0 | I44: =Feuil2!I3 -> 0
B45: Mer | D45: 0 | E45: 0 | G45: 0 | I45: =Feuil2!I4 -> 0 | Q45: =IF(Feuil2!C5<0,"Vous faites trop d'heures","Il vous manque des heures") -> Il vous manque des heures | AC45: Effacer sur le calendrier les jours non travaillés
...

Sheet Feuil2
A1: temps annuel | C1: 66.958333 | F1: SEMAINE | G1: arrivée | H1: départ | I1: durée | J1: calcul | K1: temps repas
A2: journées de fractionnement | C2: 0.58333333 | F2: Lun. | G2: =Feuil1!E43 -> 0 | H2: =Feuil1!G43 -> 0 | I2: =IF(J2<0," - " & TEXT(J2*-1,"[h]:mm" ),J2) -> 0 | J2: =H2-G2-K2 -> 0 | K2: =Feuil1!D43 -> 0
A3: a effectuer | C3: =(Feuil1!X39*Feuil1!X40)-C2 -> 66.375 | F3: Mar. | G3: =Feuil1!E44 -> 0 | H3: =Feuil1!G44 -> 0 | I3: =IF(J3<0," - " & TEXT(J3*-1,"[h]:mm" ),J3) -> 0 | J3: =H3-G3-K3 -> 0 | K3: =Feuil1!D44 -> 0
A4: heures effectuée | C4: =Feuil1!X42 -> 0 | F4: Mer. | G4: =Feuil1!E45 -> 0 | H4: =Feuil1!G45 -> 0 | I4: =IF(J4<0," - " & TEXT(J4*-1,"[h]:mm" ),J4) -> 0 | J4: =H4-G4-K4 -> 0 | K4: =Feuil1!D45 -> 0
A5: calcul | C5: =C3-C4 -> 66.375 | F5: Jeu. | G5: =Feuil1!E46 -> 0 | H5: =Feuil1!G46 -> 0 | I5: =IF(J5<0," - " & TEXT(J5*-1,"[h]:mm" ),J5) -> 0 | J5: =H5-G5-K5 -> 0 | K5: =Feuil1!D46 -> 0
A6: resultat | C6: =IF(C5<0," - " & TEXT(C5*-1,"[h]:mm" ),C5) -> 66.375 | F6: Ven. | G6: =Feuil1!E47 -> 0 | H6: =Feuil1!G47 -> 0 | I6: =IF(J6<0," - " & TEXT(J6*-1,"[h]:mm" ),J6) -> 0 | J6: =H6-G6-K6 -> 0 | K6: =Feuil1!D47 -> 0
F7: Sam. | G7: =Feuil1!E48 -> 0 | H7: =Feuil1!G48 -> 0 | I7: =IF(J7<0," - " & TEXT(J7*-1,"[h]:mm" ),J7) -> 0 | J7: =H7-G7-K7 -> 0 | K7: =Feuil1!D48 -> 0
F8: Dim. | G8: =Feuil1!E49 -> 0 | H8: =Feuil1!G49 -> 0 | I8: =IF(J8<0," - " & TEXT(J8*-1,"[h]:mm" ),J8) -> 0 | J8: =H8-G8-K8 -> 0 | K8: =Feuil1!D49 -> 0
